BEGIN:VCALENDAR
VERSION:2.0
PRODID:-//Mind Beyond | IFS Australia &amp; New Zealand - ECPv6.15.20//NONSGML v1.0//EN
CALSCALE:GREGORIAN
METHOD:PUBLISH
X-ORIGINAL-URL:https://mindbeyond.com.au
X-WR-CALDESC:Events for Mind Beyond | IFS Australia &amp; New Zealand
REFRESH-INTERVAL;VALUE=DURATION:PT1H
X-Robots-Tag:noindex
X-PUBLISHED-TTL:PT1H
BEGIN:VTIMEZONE
TZID:Australia/Sydney
BEGIN:STANDARD
TZOFFSETFROM:+1100
TZOFFSETTO:+1000
TZNAME:AEST
DTSTART:20250405T160000
END:STANDARD
BEGIN:DAYLIGHT
TZOFFSETFROM:+1000
TZOFFSETTO:+1100
TZNAME:AEDT
DTSTART:20251004T160000
END:DAYLIGHT
BEGIN:STANDARD
TZOFFSETFROM:+1100
TZOFFSETTO:+1000
TZNAME:AEST
DTSTART:20260404T160000
END:STANDARD
BEGIN:DAYLIGHT
TZOFFSETFROM:+1000
TZOFFSETTO:+1100
TZNAME:AEDT
DTSTART:20261003T160000
END:DAYLIGHT
BEGIN:STANDARD
TZOFFSETFROM:+1100
TZOFFSETTO:+1000
TZNAME:AEST
DTSTART:20270403T160000
END:STANDARD
BEGIN:DAYLIGHT
TZOFFSETFROM:+1000
TZOFFSETTO:+1100
TZNAME:AEDT
DTSTART:20271002T160000
END:DAYLIGHT
END:VTIMEZONE
BEGIN:VEVENT
DTSTART;TZID=Australia/Sydney:20260101T173000
DTEND;TZID=Australia/Sydney:20261231T183000
DTSTAMP:20260422T101738
CREATED:20251218T005152Z
LAST-MODIFIED:20251218T005152Z
UID:5749-1767288600-1798741800@mindbeyond.com.au
SUMMARY:IFS Community Call
DESCRIPTION:We hold a monthly IFS Community Call which is an invitation to share an hour together for anyone in the IFS community who has completed an IFS introduction or 6+ hours of self-study\, read No Bad Parts or completed introductory online training. The purpose is to support the IFS community in Australia and New Zealand with a FREE monthly Self-led space to connect and share concise teaching and meditation.  \nTo register your interest in joining this growing community\, complete the IFS ANZ Community Call Interest Form to receive all future links for the monthly calls.  You will receive the information each month and need to register your attendance each catch up session. \n  \nIFS ANZ COMMUNITY CALL INTEREST FORM
URL:https://mindbeyond.com.au/event/ifs-community-call/
LOCATION:Online
ATTACH;FMTTYPE=image/jpeg:https://mindbeyond.com.au/wp-content/uploads/2025/12/Kandinsky-Ludwigskirche-1908.jpg
END:VEVENT
BEGIN:VEVENT
DTSTART;TZID=Australia/Sydney:20260701T093000
DTEND;TZID=Australia/Sydney:20261231T170000
DTSTAMP:20260422T101738
CREATED:20260413T103034Z
LAST-MODIFIED:20260413T103034Z
UID:987516670-1782898200-1798736400@mindbeyond.com.au
SUMMARY:PART 2: IFS & Healing from Neglect: An Experiential Training for Therapists
DESCRIPTION:Join Jenny Fiebig in an ONLINE sequel to IFS & Healing from Neglect planned for after June 2026.  More information to follow.
URL:https://mindbeyond.com.au/event/part-2-ifs-healing-from-neglect-an-experiential-training-for-therapists/
LOCATION:Online
ATTACH;FMTTYPE=image/jpeg:https://mindbeyond.com.au/wp-content/uploads/2025/11/https___cdn.evbuc_.com_images_476656719_1688339221_1_original.jpg
END:VEVENT
BEGIN:VEVENT
DTSTART;TZID=Australia/Sydney:20260830T140000
DTEND;TZID=Australia/Sydney:20260902T120000
DTSTAMP:20260422T101738
CREATED:20260416T060734Z
LAST-MODIFIED:20260417T061802Z
UID:987516672-1788098400-1788350400@mindbeyond.com.au
SUMMARY:Journey with Exiles with Jory Agate
DESCRIPTION:This 3-Day Retreat is for IFS clinicians\n30 August to 2 September 2026\nMana Retreat Centre\, Coromandel Peninsula\, Aotearoa / New Zealand\n  \nKia ora. Jory is inviting you to take a deep dive into working with clients’ most vulnerable parts and bringing healing with particular attention to advanced nuances of the unburdening process. The workshop combines meditation\, teaching and exercises\, guiding you to: \n• Identify how the healing steps to be adapted in their client’s unique healing process. \n• Name reasons why exiles might be reluctant to trust Self and release burdens. \n• Indicate when it is appropriate to witness/do over and when it is appropriate to release. \n* Prerequisite: This is a workshop for IFS practitioners who have completed IFS Level 1 or above. \n  \nABOUT YOUR TRAINER\nJory Agate LMHC\, MDiv\, MA is a senior IFS lead trainer\, teaching IFS Level 1 and 2 internationally. She is a therapist and consultant with private practice in Cambridge\, MA. She is committed to creating a collaborative clinical space that honors the cultural uniqueness of her clients and supervisees. She specializes in treating trauma without pathologizing individuals for the creative ways they may have learned to cope. . \n  \nABOUT THE VENUE\nMana Retreat\, Coromandel Peninsula\, New Zealand \n  \nCOST\nCost: NZD $1\,840 (Including GST\, Lunches\, morning and afternoon tea included). \nAccommodation and morning/evening meals not included-arrange with the training coordinator if you wish to book at Mana Retreat centre. \n  \nMore information and registration information here
URL:https://mindbeyond.com.au/event/journey-with-exiles-with-jory-agate/
LOCATION:Mana Retreat Centre\, 608 Manaia Road\, Coromandel\, New Zealand
ATTACH;FMTTYPE=image/jpeg:https://mindbeyond.com.au/wp-content/uploads/2026/04/Jory-Agate.jpg
END:VEVENT
BEGIN:VEVENT
DTSTART;TZID=Australia/Sydney:20261002T093000
DTEND;TZID=Australia/Sydney:20261005T170000
DTSTAMP:20260422T101738
CREATED:20251201T001124Z
LAST-MODIFIED:20251201T002325Z
UID:5722-1790933400-1791219600@mindbeyond.com.au
SUMMARY:IFS Model - Introduction and Deepening 2+2 Day Workshop\, Melbourne 2026
DESCRIPTION:An Introduction and Deepening of the Internal Family Systems Therapy (IFS) model of psychotherapy – assumes no prior knowledge.\nJoin our IFS Institute International Partner Simon d’Orsogna MA in a 2-Day Introductory IFS Workshop\, followed by a 2-Day Deepening IFS Workshop. In this workshop series you will immerse yourself in the Internal Family Systems Therapy (IFS) model of psychotherapy.  The workshop sessions aim to provide an opportunity for adult learning in a process-oriented group approach to foster professional development in a supportive collegial atmosphere. Suitable to mental health professionals including therapists\, psychologists\, counsellors\, psychiatrists\, expressive\, therapeutic arts practitioners and social workers. \nParticipants in the Introductory Workshop will learn the basics of the IFS approach from the ground up. No previous knowledge of the model is assumed. The focus in the Deepening days is on further understanding the IFS approach\, model and techniques through a series of exercises\, demos and discussion. \nParticipants will be supported in the experiential work with experienced trained therapists and practitioners as your assistants. The workshop provides an opportunity for didactic presentation\, watching both demonstration sessions with commentary and discussion and engaging in experiential exercises where we learn-by-doing. You will develop a familiarity with the powerful attitudes and techniques that make IFS so effective. \n  \n\nTestimonials from attendees of Simon’s recent IFS workshops … \nThe workshop inspired me to become more committed to using the model and developed my confidence. Group discussions\, demonstrations and small group work created a positive and open learning atmosphere. Simon was living the values of IFS through openly embracing all the parts in the room. I had the opportunity to work with my own parts in a supportive atmosphere. \nFun\, informative\, experiential\, respectful\, and inspiring. \nUseful\, effective\, grounding\, and gave me more confidence in using IFS \nReally enjoyed Simon’s presence\, authenticity\, compassion\, and expertise in the field. It made for an engaging and fun workshop and I came away inspired by IFS. \nAn absolute must to attend if you are wanting to explore the use of IFS in your practice. \nI really appreciate Simon’s process oriented style and his embodiment and refined understanding of IFS – he lives and breaths it. \n  \nFor further information including ticketing CLICK HERE!
URL:https://mindbeyond.com.au/event/ifs-model-introduction-and-deepening-22-day-workshop-melbourne-2026-3/
LOCATION:Abbotsford Convent\, 1 St Heliers Street\, Abbotsford\, VIC\, 3067\, Australia
ATTACH;FMTTYPE=image/jpeg:https://mindbeyond.com.au/wp-content/uploads/2025/11/https___cdn.evbuc_.com_images_476656719_1688339221_1_original.jpg
END:VEVENT
BEGIN:VEVENT
DTSTART;TZID=Australia/Sydney:20261013T093000
DTEND;TZID=Australia/Sydney:20261016T170000
DTSTAMP:20260422T101738
CREATED:20251201T001921Z
LAST-MODIFIED:20251201T002212Z
UID:5724-1791883800-1792170000@mindbeyond.com.au
SUMMARY:IFS Model - Introduction & Deepening 2+2 Day Workshop\, Sydney 2026
DESCRIPTION:An Introduction and Deepening of the Internal Family Systems Therapy (IFS) model of psychotherapy – assumes no prior knowledge.\nJoin our IFS Institute International Partner Simon d’Orsogna MA in a 2-Day Introductory IFS Workshop\, followed by a 2-Day Deepening IFS Workshop. In this workshop series you will immerse yourself in the Internal Family Systems Therapy (IFS) model of psychotherapy.  The workshop sessions aim to provide an opportunity for adult learning in a process-oriented group approach to foster professional development in a supportive collegial atmosphere. Suitable to mental health professionals including therapists\, psychologists\, counsellors\, psychiatrists\, expressive\, therapeutic arts practitioners and social workers. \nParticipants in the Introductory Workshop will learn the basics of the IFS approach from the ground up. No previous knowledge of the model is assumed. The focus in the Deepening days is on further understanding the IFS approach\, model and techniques through a series of exercises\, demos and discussion. \nParticipants will be supported in the experiential work with experienced trained therapists and practitioners as your assistants. The workshop provides an opportunity for didactic presentation\, watching both demonstration sessions with commentary and discussion and engaging in experiential exercises where we learn-by-doing. You will develop a familiarity with the powerful attitudes and techniques that make IFS so effective. \n  \n\nTestimonials from attendees of Simon’s recent IFS workshops … \nThe workshop inspired me to become more committed to using the model and developed my confidence. Group discussions\, demonstrations and small group work created a positive and open learning atmosphere. Simon was living the values of IFS through openly embracing all the parts in the room. I had the opportunity to work with my own parts in a supportive atmosphere. \nFun\, informative\, experiential\, respectful\, and inspiring. \nUseful\, effective\, grounding\, and gave me more confidence in using IFS \nReally enjoyed Simon’s presence\, authenticity\, compassion\, and expertise in the field. It made for an engaging and fun workshop and I came away inspired by IFS. \nAn absolute must to attend if you are wanting to explore the use of IFS in your practice. \nI really appreciate Simon’s process oriented style and his embodiment and refined understanding of IFS – he lives and breaths it. \n  \nFor further information including ticketing CLICK HERE!
URL:https://mindbeyond.com.au/event/ifs-model-introduction-deepening-22-day-workshop-sydney-2026/
LOCATION:Crows Nest Centre\, 2 Ernest Place Crows Nest\, Sydney\, Australia
ATTACH;FMTTYPE=image/jpeg:https://mindbeyond.com.au/wp-content/uploads/2025/11/https___cdn.evbuc_.com_images_476656719_1688339221_1_original.jpg
END:VEVENT
BEGIN:VEVENT
DTSTART;TZID=Australia/Sydney:20261117T093000
DTEND;TZID=Australia/Sydney:20261120T170000
DTSTAMP:20260422T101738
CREATED:20260312T235653Z
LAST-MODIFIED:20260312T235653Z
UID:987516657-1794907800-1795194000@mindbeyond.com.au
SUMMARY:IFS Model – Introduction and Deepening 2+2 Day Workshop\, Melbourne 2026
DESCRIPTION:An Introduction and Deepening of the Internal Family Systems Therapy (IFS) model of psychotherapy – assumes no prior knowledge.\nJoin our IFS Institute International Partner Simon d’Orsogna MA in a 2-Day Introductory IFS Workshop\, followed by a 2-Day Deepening IFS Workshop. In this workshop series you will immerse yourself in the Internal Family Systems Therapy (IFS) model of psychotherapy.  The workshop sessions aim to provide an opportunity for adult learning in a process-oriented group approach to foster professional development in a supportive collegial atmosphere. Suitable to mental health professionals including therapists\, psychologists\, counsellors\, psychiatrists\, expressive\, therapeutic arts practitioners and social workers. \nParticipants in the Introductory Workshop will learn the basics of the IFS approach from the ground up. No previous knowledge of the model is assumed. The focus in the Deepening days is on further understanding the IFS approach\, model and techniques through a series of exercises\, demos and discussion. \nParticipants will be supported in the experiential work with experienced trained therapists and practitioners as your assistants. The workshop provides an opportunity for didactic presentation\, watching both demonstration sessions with commentary and discussion and engaging in experiential exercises where we learn-by-doing. You will develop a familiarity with the powerful attitudes and techniques that make IFS so effective. \n  \n\nTestimonials from attendees of Simon’s recent IFS workshops … \nThe workshop inspired me to become more committed to using the model and developed my confidence. Group discussions\, demonstrations and small group work created a positive and open learning atmosphere. Simon was living the values of IFS through openly embracing all the parts in the room. I had the opportunity to work with my own parts in a supportive atmosphere. \nFun\, informative\, experiential\, respectful\, and inspiring. \nUseful\, effective\, grounding\, and gave me more confidence in using IFS \nReally enjoyed Simon’s presence\, authenticity\, compassion\, and expertise in the field. It made for an engaging and fun workshop and I came away inspired by IFS. \nAn absolute must to attend if you are wanting to explore the use of IFS in your practice. \nI really appreciate Simon’s process oriented style and his embodiment and refined understanding of IFS – he lives and breaths it. \n  \nFor further information including ticketing CLICK HERE!
URL:https://mindbeyond.com.au/event/ifs-model-introduction-and-deepening-22-day-workshop-melbourne-2026-4/
LOCATION:Catholic Parish Ivanhoe\, 4 Waverley Avenue\, Ivanhoe\, Victoria\, 3079\, Australia
ATTACH;FMTTYPE=image/jpeg:https://mindbeyond.com.au/wp-content/uploads/2025/11/https___cdn.evbuc_.com_images_476656719_1688339221_1_original.jpg
END:VEVENT
BEGIN:VEVENT
DTSTART;TZID=Australia/Sydney:20261127T093000
DTEND;TZID=Australia/Sydney:20261130T170000
DTSTAMP:20260422T101738
CREATED:20260313T000127Z
LAST-MODIFIED:20260313T000127Z
UID:987516660-1795771800-1796058000@mindbeyond.com.au
SUMMARY:IFS Model – Introduction and Deepening 2+2 Day Workshop\, Sydney 2026
DESCRIPTION:An Introduction and Deepening of the Internal Family Systems Therapy (IFS) model of psychotherapy – assumes no prior knowledge.\nJoin our IFS Institute International Partner Simon d’Orsogna MA in a 2-Day Introductory IFS Workshop\, followed by a 2-Day Deepening IFS Workshop. In this workshop series you will immerse yourself in the Internal Family Systems Therapy (IFS) model of psychotherapy.  The workshop sessions aim to provide an opportunity for adult learning in a process-oriented group approach to foster professional development in a supportive collegial atmosphere. Suitable to mental health professionals including therapists\, psychologists\, counsellors\, psychiatrists\, expressive\, therapeutic arts practitioners and social workers. \nParticipants in the Introductory Workshop will learn the basics of the IFS approach from the ground up. No previous knowledge of the model is assumed. The focus in the Deepening days is on further understanding the IFS approach\, model and techniques through a series of exercises\, demos and discussion. \nParticipants will be supported in the experiential work with experienced trained therapists and practitioners as your assistants. The workshop provides an opportunity for didactic presentation\, watching both demonstration sessions with commentary and discussion and engaging in experiential exercises where we learn-by-doing. You will develop a familiarity with the powerful attitudes and techniques that make IFS so effective. \n  \n\nTestimonials from attendees of Simon’s recent IFS workshops … \nThe workshop inspired me to become more committed to using the model and developed my confidence. Group discussions\, demonstrations and small group work created a positive and open learning atmosphere. Simon was living the values of IFS through openly embracing all the parts in the room. I had the opportunity to work with my own parts in a supportive atmosphere. \nFun\, informative\, experiential\, respectful\, and inspiring. \nUseful\, effective\, grounding\, and gave me more confidence in using IFS \nReally enjoyed Simon’s presence\, authenticity\, compassion\, and expertise in the field. It made for an engaging and fun workshop and I came away inspired by IFS. \nAn absolute must to attend if you are wanting to explore the use of IFS in your practice. \nI really appreciate Simon’s process oriented style and his embodiment and refined understanding of IFS – he lives and breaths it. \n  \nFor further information including ticketing CLICK HERE!
URL:https://mindbeyond.com.au/event/ifs-model-introduction-and-deepening-22-day-workshop-sydney-2026-4/
LOCATION:Crows Nest Centre\, 2 Ernest Place Crows Nest\, Sydney\, Australia
ATTACH;FMTTYPE=image/jpeg:https://mindbeyond.com.au/wp-content/uploads/2025/11/https___cdn.evbuc_.com_images_476656719_1688339221_1_original.jpg
END:VEVENT
BEGIN:VEVENT
DTSTART;TZID=Australia/Sydney:20261213T093000
DTEND;TZID=Australia/Sydney:20261216T170000
DTSTAMP:20260422T101738
CREATED:20260313T000619Z
LAST-MODIFIED:20260313T000619Z
UID:987516662-1797154200-1797440400@mindbeyond.com.au
SUMMARY:IFS MODEL - Introduction and Deepening 2+2 Day Workshop\, Melbourne
DESCRIPTION:An Introduction and Deepening of the Internal Family Systems Therapy (IFS) model of psychotherapy – assumes no prior knowledge.\nJoin our IFS Institute International Partner Simon d’Orsogna MA in a 2-Day Introductory IFS Workshop\, followed by a 2-Day Deepening IFS Workshop. In this workshop series you will immerse yourself in the Internal Family Systems Therapy (IFS) model of psychotherapy.  The workshop sessions aim to provide an opportunity for adult learning in a process-oriented group approach to foster professional development in a supportive collegial atmosphere. Suitable to mental health professionals including therapists\, psychologists\, counsellors\, psychiatrists\, expressive\, therapeutic arts practitioners and social workers. \nParticipants in the Introductory Workshop will learn the basics of the IFS approach from the ground up. No previous knowledge of the model is assumed. The focus in the Deepening days is on further understanding the IFS approach\, model and techniques through a series of exercises\, demos and discussion. \nParticipants will be supported in the experiential work with experienced trained therapists and practitioners as your assistants. The workshop provides an opportunity for didactic presentation\, watching both demonstration sessions with commentary and discussion and engaging in experiential exercises where we learn-by-doing. You will develop a familiarity with the powerful attitudes and techniques that make IFS so effective. \n  \n\nTestimonials from attendees of Simon’s recent IFS workshops … \nThe workshop inspired me to become more committed to using the model and developed my confidence. Group discussions\, demonstrations and small group work created a positive and open learning atmosphere. Simon was living the values of IFS through openly embracing all the parts in the room. I had the opportunity to work with my own parts in a supportive atmosphere. \nFun\, informative\, experiential\, respectful\, and inspiring. \nUseful\, effective\, grounding\, and gave me more confidence in using IFS \nReally enjoyed Simon’s presence\, authenticity\, compassion\, and expertise in the field. It made for an engaging and fun workshop and I came away inspired by IFS. \nAn absolute must to attend if you are wanting to explore the use of IFS in your practice. \nI really appreciate Simon’s process oriented style and his embodiment and refined understanding of IFS – he lives and breaths it. \n  \nFor further information including ticketing CLICK HERE!
URL:https://mindbeyond.com.au/event/ifs-model-introduction-and-deepening-22-day-workshop-melbourne-2/
LOCATION:Abbotsford Convent\, 1 St Heliers Street\, Abbotsford\, VIC\, 3067\, Australia
ATTACH;FMTTYPE=image/jpeg:https://mindbeyond.com.au/wp-content/uploads/2025/11/https___cdn.evbuc_.com_images_476656719_1688339221_1_original.jpg
END:VEVENT
END:VCALENDAR