BEGIN:VCALENDAR
VERSION:2.0
PRODID:-//Mind Beyond | IFS Australia &amp; New Zealand - ECPv6.15.20//NONSGML v1.0//EN
CALSCALE:GREGORIAN
METHOD:PUBLISH
X-WR-CALNAME:Mind Beyond | IFS Australia &amp; New Zealand
X-ORIGINAL-URL:https://mindbeyond.com.au
X-WR-CALDESC:Events for Mind Beyond | IFS Australia &amp; New Zealand
REFRESH-INTERVAL;VALUE=DURATION:PT1H
X-Robots-Tag:noindex
X-PUBLISHED-TTL:PT1H
BEGIN:VTIMEZONE
TZID:Australia/Sydney
BEGIN:STANDARD
TZOFFSETFROM:+1100
TZOFFSETTO:+1000
TZNAME:AEST
DTSTART:20250405T160000
END:STANDARD
BEGIN:DAYLIGHT
TZOFFSETFROM:+1000
TZOFFSETTO:+1100
TZNAME:AEDT
DTSTART:20251004T160000
END:DAYLIGHT
BEGIN:STANDARD
TZOFFSETFROM:+1100
TZOFFSETTO:+1000
TZNAME:AEST
DTSTART:20260404T160000
END:STANDARD
BEGIN:DAYLIGHT
TZOFFSETFROM:+1000
TZOFFSETTO:+1100
TZNAME:AEDT
DTSTART:20261003T160000
END:DAYLIGHT
BEGIN:STANDARD
TZOFFSETFROM:+1100
TZOFFSETTO:+1000
TZNAME:AEST
DTSTART:20270403T160000
END:STANDARD
BEGIN:DAYLIGHT
TZOFFSETFROM:+1000
TZOFFSETTO:+1100
TZNAME:AEDT
DTSTART:20271002T160000
END:DAYLIGHT
END:VTIMEZONE
BEGIN:VEVENT
DTSTART;TZID=Australia/Sydney:20260101T173000
DTEND;TZID=Australia/Sydney:20261231T183000
DTSTAMP:20260422T051129
CREATED:20251218T005152Z
LAST-MODIFIED:20251218T005152Z
UID:5749-1767288600-1798741800@mindbeyond.com.au
SUMMARY:IFS Community Call
DESCRIPTION:We hold a monthly IFS Community Call which is an invitation to share an hour together for anyone in the IFS community who has completed an IFS introduction or 6+ hours of self-study\, read No Bad Parts or completed introductory online training. The purpose is to support the IFS community in Australia and New Zealand with a FREE monthly Self-led space to connect and share concise teaching and meditation.  \nTo register your interest in joining this growing community\, complete the IFS ANZ Community Call Interest Form to receive all future links for the monthly calls.  You will receive the information each month and need to register your attendance each catch up session. \n  \nIFS ANZ COMMUNITY CALL INTEREST FORM
URL:https://mindbeyond.com.au/event/ifs-community-call/
LOCATION:Online
ATTACH;FMTTYPE=image/jpeg:https://mindbeyond.com.au/wp-content/uploads/2025/12/Kandinsky-Ludwigskirche-1908.jpg
END:VEVENT
BEGIN:VEVENT
DTSTART;TZID=Australia/Sydney:20260624T093000
DTEND;TZID=Australia/Sydney:20260626T170000
DTSTAMP:20260422T051129
CREATED:20260413T102211Z
LAST-MODIFIED:20260413T102256Z
UID:987516665-1782293400-1782493200@mindbeyond.com.au
SUMMARY:Human Complexity and the Lifestage
DESCRIPTION:Spoiler Alert! Join Jenny Fiebig and Simon d’Orsogna in a 3-day training workshop for therapists on Human Complexity and the Lifestage.  This upcoming workshop is planned for 24 – 26 June 2026 and will run in a live/in-person format at Ivanhoe Catholic Parish\, Melbourne.  The program will showcase – Day 1: Childhood Development | Day 2: Adult Development | Day 3: Integration of the life journey through lifestages \nDon’t miss this opportunity to work with Jenny in live training.  Details to follow soon.
URL:https://mindbeyond.com.au/event/human-complexity-and-the-lifestage/
LOCATION:Catholic Parish Ivanhoe\, 4 Waverley Avenue\, Ivanhoe\, Victoria\, 3079\, Australia
ATTACH;FMTTYPE=image/jpeg:https://mindbeyond.com.au/wp-content/uploads/2025/11/https___cdn.evbuc_.com_images_476656719_1688339221_1_original.jpg
END:VEVENT
END:VCALENDAR