BEGIN:VCALENDAR
VERSION:2.0
PRODID:-//Mind Beyond | IFS Australia &amp; New Zealand - ECPv6.15.20//NONSGML v1.0//EN
CALSCALE:GREGORIAN
METHOD:PUBLISH
X-ORIGINAL-URL:https://mindbeyond.com.au
X-WR-CALDESC:Events for Mind Beyond | IFS Australia &amp; New Zealand
REFRESH-INTERVAL;VALUE=DURATION:PT1H
X-Robots-Tag:noindex
X-PUBLISHED-TTL:PT1H
BEGIN:VTIMEZONE
TZID:Australia/Sydney
BEGIN:STANDARD
TZOFFSETFROM:+1100
TZOFFSETTO:+1000
TZNAME:AEST
DTSTART:20250405T160000
END:STANDARD
BEGIN:DAYLIGHT
TZOFFSETFROM:+1000
TZOFFSETTO:+1100
TZNAME:AEDT
DTSTART:20251004T160000
END:DAYLIGHT
BEGIN:STANDARD
TZOFFSETFROM:+1100
TZOFFSETTO:+1000
TZNAME:AEST
DTSTART:20260404T160000
END:STANDARD
BEGIN:DAYLIGHT
TZOFFSETFROM:+1000
TZOFFSETTO:+1100
TZNAME:AEDT
DTSTART:20261003T160000
END:DAYLIGHT
BEGIN:STANDARD
TZOFFSETFROM:+1100
TZOFFSETTO:+1000
TZNAME:AEST
DTSTART:20270403T160000
END:STANDARD
BEGIN:DAYLIGHT
TZOFFSETFROM:+1000
TZOFFSETTO:+1100
TZNAME:AEDT
DTSTART:20271002T160000
END:DAYLIGHT
END:VTIMEZONE
BEGIN:VEVENT
DTSTART;TZID=Australia/Sydney:20260101T173000
DTEND;TZID=Australia/Sydney:20261231T183000
DTSTAMP:20260422T033319
CREATED:20251218T005152Z
LAST-MODIFIED:20251218T005152Z
UID:5749-1767288600-1798741800@mindbeyond.com.au
SUMMARY:IFS Community Call
DESCRIPTION:We hold a monthly IFS Community Call which is an invitation to share an hour together for anyone in the IFS community who has completed an IFS introduction or 6+ hours of self-study\, read No Bad Parts or completed introductory online training. The purpose is to support the IFS community in Australia and New Zealand with a FREE monthly Self-led space to connect and share concise teaching and meditation.  \nTo register your interest in joining this growing community\, complete the IFS ANZ Community Call Interest Form to receive all future links for the monthly calls.  You will receive the information each month and need to register your attendance each catch up session. \n  \nIFS ANZ COMMUNITY CALL INTEREST FORM
URL:https://mindbeyond.com.au/event/ifs-community-call/
LOCATION:Online
ATTACH;FMTTYPE=image/jpeg:https://mindbeyond.com.au/wp-content/uploads/2025/12/Kandinsky-Ludwigskirche-1908.jpg
END:VEVENT
BEGIN:VEVENT
DTSTART;TZID=Australia/Sydney:20260304T180000
DTEND;TZID=Australia/Sydney:20260325T200000
DTSTAMP:20260422T033319
CREATED:20260123T100934Z
LAST-MODIFIED:20260123T101051Z
UID:5779-1772647200-1774468800@mindbeyond.com.au
SUMMARY:APPLIED IFS - Online Demos | Series I
DESCRIPTION:Observe the IFS approach\, model and techniques in action.\nClinical trainer and Certified IFS Therapist Simon d’Orsogna will present these Applied IFS Demos Online\, in group sessions via the ZOOM platform (8 hours in each series). Participants aim to deepen the basics of the IFS approach through examples\, commentary and reflection. Participants will use IFS as the lens or central spine of the work\, offering practical modelling and application through an experiential orientation. \nIn this series of recorded video demonstrations and discussion\, a small study group will build on their existing knowledge from the IFS Introduction and offer discussion and further learning with 4 demonstrations of recorded client sessions showing working with a new client\, working with the body\, working with a couple and trauma processing.  Participants may commence with either Series I (4 individual sessions)\, Series II (one client over 4 sessions) or Series III (4 single sessions) in the Applied IFS Demo workshops series. \n  \nMore information and ticketing
URL:https://mindbeyond.com.au/event/applied-ifs-online-demos-first-series-4-x-2-hour-sessions/
ATTACH;FMTTYPE=image/jpeg:https://mindbeyond.com.au/wp-content/uploads/2025/11/https___cdn.evbuc_.com_images_476656719_1688339221_1_original.jpg
END:VEVENT
BEGIN:VEVENT
DTSTART;TZID=Australia/Sydney:20260324T090000
DTEND;TZID=Australia/Sydney:20260327T123000
DTSTAMP:20260422T033319
CREATED:20260123T095318Z
LAST-MODIFIED:20260123T095520Z
UID:5776-1774342800-1774614600@mindbeyond.com.au
SUMMARY:IFS & Healing from Neglect: An Experiential Training for Therapists with Jenny Fiebig
DESCRIPTION:Facilitated by Jenny Fiebig LPC\, this is a 4-session experiential workshop designed for therapists who want to deepen their understanding of how emotional childhood neglect shapes internal systems and impacts adult clients. Using Internal Family Systems (IFS) as the primary framework\, participants will explore how neglect creates protective patterns\, reinforces nervous system dysregulation and leads to chronic emotional disconnection. \nThis workshop is recommended for experienced therapists\, counsellors and healing professionals familiar with IFS who want to expand their capacity to work with clients impacted by emotional neglect. It is especially suited for those working with: \n\nTrauma & Attachment Issues\nDissociation & Emotional Numbing\nShame\, Perfectionism & People-Pleasing\nClients Struggling with Emotional Disconnection\n\nThrough this immersive experience\, therapists will not only enhance their clinical skills but also deepen their own self-awareness—helping them show up more fully in their work with clients. This is not an introduction to IFS\, so basic concepts & language will be assumed. \nWHAT THERAPISTS WILL GAIN \n\nA Clear IFS Understanding of Neglect\nNervous System Awareness & Treatment Strategies\nExperiential IFS Practice\nTools for Working with Emptiness & Dissociation\nIntegration & Application to Clinical Practice\n\nThis workshop will be recorded and made available later for purchase.\nJoin us and reserve your spot here!
URL:https://mindbeyond.com.au/event/ifs-healing-from-neglect-an-experiential-training-for-therapists-with-jenny-fiebig/
ATTACH;FMTTYPE=image/jpeg:https://mindbeyond.com.au/wp-content/uploads/2023/05/Jenny-Fiebig.jpg
END:VEVENT
END:VCALENDAR