BEGIN:VCALENDAR
VERSION:2.0
PRODID:-//Mind Beyond | IFS Australia &amp; New Zealand - ECPv6.15.20//NONSGML v1.0//EN
CALSCALE:GREGORIAN
METHOD:PUBLISH
X-WR-CALNAME:Mind Beyond | IFS Australia &amp; New Zealand
X-ORIGINAL-URL:https://mindbeyond.com.au
X-WR-CALDESC:Events for Mind Beyond | IFS Australia &amp; New Zealand
REFRESH-INTERVAL;VALUE=DURATION:PT1H
X-Robots-Tag:noindex
X-PUBLISHED-TTL:PT1H
BEGIN:VTIMEZONE
TZID:Australia/Sydney
BEGIN:STANDARD
TZOFFSETFROM:+1100
TZOFFSETTO:+1000
TZNAME:AEST
DTSTART:20250405T160000
END:STANDARD
BEGIN:DAYLIGHT
TZOFFSETFROM:+1000
TZOFFSETTO:+1100
TZNAME:AEDT
DTSTART:20251004T160000
END:DAYLIGHT
BEGIN:STANDARD
TZOFFSETFROM:+1100
TZOFFSETTO:+1000
TZNAME:AEST
DTSTART:20260404T160000
END:STANDARD
BEGIN:DAYLIGHT
TZOFFSETFROM:+1000
TZOFFSETTO:+1100
TZNAME:AEDT
DTSTART:20261003T160000
END:DAYLIGHT
BEGIN:STANDARD
TZOFFSETFROM:+1100
TZOFFSETTO:+1000
TZNAME:AEST
DTSTART:20270403T160000
END:STANDARD
BEGIN:DAYLIGHT
TZOFFSETFROM:+1000
TZOFFSETTO:+1100
TZNAME:AEDT
DTSTART:20271002T160000
END:DAYLIGHT
END:VTIMEZONE
BEGIN:VEVENT
DTSTART;TZID=Australia/Sydney:20260101T173000
DTEND;TZID=Australia/Sydney:20261231T183000
DTSTAMP:20260422T045309
CREATED:20251218T005152Z
LAST-MODIFIED:20251218T005152Z
UID:5749-1767288600-1798741800@mindbeyond.com.au
SUMMARY:IFS Community Call
DESCRIPTION:We hold a monthly IFS Community Call which is an invitation to share an hour together for anyone in the IFS community who has completed an IFS introduction or 6+ hours of self-study\, read No Bad Parts or completed introductory online training. The purpose is to support the IFS community in Australia and New Zealand with a FREE monthly Self-led space to connect and share concise teaching and meditation.  \nTo register your interest in joining this growing community\, complete the IFS ANZ Community Call Interest Form to receive all future links for the monthly calls.  You will receive the information each month and need to register your attendance each catch up session. \n  \nIFS ANZ COMMUNITY CALL INTEREST FORM
URL:https://mindbeyond.com.au/event/ifs-community-call/
LOCATION:Online
ATTACH;FMTTYPE=image/jpeg:https://mindbeyond.com.au/wp-content/uploads/2025/12/Kandinsky-Ludwigskirche-1908.jpg
END:VEVENT
BEGIN:VEVENT
DTSTART;TZID=Australia/Sydney:20260207T090000
DTEND;TZID=Australia/Sydney:20260228T123000
DTSTAMP:20260422T045309
CREATED:20250910T011745Z
LAST-MODIFIED:20250910T013740Z
UID:5556-1770454800-1772281800@mindbeyond.com.au
SUMMARY:Trauma\, Dissociation\, Parts - 4 session online workshop - Joanne Twombly
DESCRIPTION:Join us for the 12 hour Trauma\, Dissociation and Parts Workshop online with Joanne Twombly! This immersive event is the perfect opportunity to deepen your understanding of dissociation and enhance your practice using subpersonalities\, non-verbal communication\, and learning about hypnotic techniques – a coherent and powerful therapeutic combination.\nTaking place online\, this workshop series will kick off on morning of Saturday 7 February for 4 sessions weekly\, completing on the 28 February 2026. Over the course of four sessions\, you’ll dive deep into working with Dissociation through the lens of IFS\, EMDR and Parts work through a variety of lecture and engaging and interactive activities. Led by celebrated trauma clinician Joanne Twombly\, this workshop will provide you with the frameworks\, approaches and knowledge to effectively and safely work with our vulnerable client populations.\nMore information and ticketing\n https://www.eventbrite.com.au/e/trauma-dissociation-parts-4-session-online-workshop-joanne-twombly-registration-1627161406569 
URL:https://mindbeyond.com.au/event/trauma-dissociation-parts-4-session-online-workshop-joanne-twombly/
LOCATION:Online
ATTACH;FMTTYPE=image/png:https://mindbeyond.com.au/wp-content/uploads/2025/09/photo-Joanne.png
END:VEVENT
BEGIN:VEVENT
DTSTART;TZID=Australia/Sydney:20260217T093000
DTEND;TZID=Australia/Sydney:20260220T170000
DTSTAMP:20260422T045309
CREATED:20250611T091221Z
LAST-MODIFIED:20251105T052316Z
UID:5477-1771320600-1771606800@mindbeyond.com.au
SUMMARY:IFS MODEL - Introduction and Deepening 2+2 Day Workshop\, Melbourne 2026
DESCRIPTION:An Introduction and Deepening of the Internal Family Systems Therapy (IFS) model of psychotherapy – assumes no prior knowledge.\nJoin our IFS Institute International Partner Simon d’Orsogna MA in a 2-Day Introductory IFS Workshop\, followed by a 2-Day Deepening IFS Workshop. In this workshop series you will immerse yourself in the Internal Family Systems Therapy (IFS) model of psychotherapy.  The workshop sessions aim to provide an opportunity for adult learning in a process-oriented group approach to foster professional development in a supportive collegial atmosphere. Suitable to mental health professionals including therapists\, psychologists\, counsellors\, psychiatrists\, expressive\, therapeutic arts practitioners and social workers. \nParticipants in the Introductory Workshop will learn the basics of the IFS approach from the ground up. No previous knowledge of the model is assumed. The focus in the Deepening days is on further understanding the IFS approach\, model and techniques through a series of exercises\, demos and discussion. \nParticipants will be supported in the experiential work with experienced trained therapists and practitioners as your assistants. The workshop provides an opportunity for didactic presentation\, watching both demonstration sessions with commentary and discussion and engaging in experiential exercises where we learn-by-doing. You will develop a familiarity with the powerful attitudes and techniques that make IFS so effective. \n\nTestimonials from attendees of Simon’s recent IFS workshops … \nThe workshop inspired me to become more committed to using the model and developed my confidence. Group discussions\, demonstrations and small group work created a positive and open learning atmosphere. Simon was living the values of IFS through openly embracing all the parts in the room. I had the opportunity to work with my own parts in a supportive atmosphere. \nFun\, informative\, experiential\, respectful\, and inspiring. \nUseful\, effective\, grounding\, and gave me more confidence in using IFS \nReally enjoyed Simons’s presence\, authenticity\, compassion\, and expertise in the field. It made for an engaging and fun workshop and I came away inspired by IFS. \nAn absolute must to attend if you are wanting to explore the use of IFS in your practice. \nI really appreciate Simon’s process oriented style and his embodiment and refined understanding of IFS – he lives and breaths it. \n  \nFor further information including ticketing CLICK HERE!
URL:https://mindbeyond.com.au/event/ifs-model-introduction-and-deepening-22-day-workshop-ivanhoe-melbourne-2/
LOCATION:Catholic Parish Ivanhoe\, 4 Waverley Avenue\, Ivanhoe\, Victoria\, 3079\, Australia
CATEGORIES:Workshop
ATTACH;FMTTYPE=image/jpeg:https://mindbeyond.com.au/wp-content/uploads/2022/12/Mind-Beyond-Events-Banner.jpg
END:VEVENT
END:VCALENDAR