BEGIN:VCALENDAR
VERSION:2.0
PRODID:-//Mind Beyond | IFS Australia &amp; New Zealand - ECPv6.15.20//NONSGML v1.0//EN
CALSCALE:GREGORIAN
METHOD:PUBLISH
X-WR-CALNAME:Mind Beyond | IFS Australia &amp; New Zealand
X-ORIGINAL-URL:https://mindbeyond.com.au
X-WR-CALDESC:Events for Mind Beyond | IFS Australia &amp; New Zealand
REFRESH-INTERVAL;VALUE=DURATION:PT1H
X-Robots-Tag:noindex
X-PUBLISHED-TTL:PT1H
BEGIN:VTIMEZONE
TZID:Australia/Sydney
BEGIN:STANDARD
TZOFFSETFROM:+1100
TZOFFSETTO:+1000
TZNAME:AEST
DTSTART:20240406T160000
END:STANDARD
BEGIN:DAYLIGHT
TZOFFSETFROM:+1000
TZOFFSETTO:+1100
TZNAME:AEDT
DTSTART:20241005T160000
END:DAYLIGHT
BEGIN:STANDARD
TZOFFSETFROM:+1100
TZOFFSETTO:+1000
TZNAME:AEST
DTSTART:20250405T160000
END:STANDARD
BEGIN:DAYLIGHT
TZOFFSETFROM:+1000
TZOFFSETTO:+1100
TZNAME:AEDT
DTSTART:20251004T160000
END:DAYLIGHT
BEGIN:STANDARD
TZOFFSETFROM:+1100
TZOFFSETTO:+1000
TZNAME:AEST
DTSTART:20260404T160000
END:STANDARD
BEGIN:DAYLIGHT
TZOFFSETFROM:+1000
TZOFFSETTO:+1100
TZNAME:AEDT
DTSTART:20261003T160000
END:DAYLIGHT
END:VTIMEZONE
BEGIN:VEVENT
DTSTART;TZID=Australia/Sydney:20251121T090000
DTEND;TZID=Australia/Sydney:20251124T170000
DTSTAMP:20260422T101008
CREATED:20250731T093040Z
LAST-MODIFIED:20250731T093512Z
UID:5498-1763715600-1764003600@mindbeyond.com.au
SUMMARY:IFS MODEL - Introduction and Deepening 2+2 Day Auckland NZ Workshop
DESCRIPTION:An Introduction and Deepening of the Internal Family Systems Therapy (IFS) model of psychotherapy – assumes no prior knowledge.\nWHEN \nDAY 1 – INTRODUCTION WORKSHOP – Friday 21st November 2025 – 930AM to 5PM (arrive from 9AM please) \nDAY 2 – INTRODUCTION WORKSHOP – Saturday 22nd November 2025 – 930AM to 5PM \nDAY 3 – DEEPENING WORKSHOP – Sunday 23rd November 2025 – 930AM to 5PM \nDAY 4 – DEEPENING WORKSHOP – Monday 24th November 2025- 930AM to 4PM \nCOST \nRegister here with a deposit of $150 (plus ticketing fees) to reserve your place\, and the remaining workshop fee will be invoiced to you separately. \nOVERALL WORKSHOP FEES\nINTRODUCTORY WORKSHOP – $495 NZD plus ticketing fee\nDEEPENING WORKSHOP – $695 NZD plus ticketing fee\nINTRO & DEEPENING – $1050 NZD plus ticketing fee \nWHERE\nHou Mana Wai Mercy Wellsprings\nTe Ngakau Waiora Mercy Spirituality Centre\n104 The Drive\, Epsom\, Auckland \nPARTICIPANTS\nLimited to 24 persons (plus the training team). \nIn this workshop series you will immerse yourself in the Internal Family Systems Therapy (IFS) model of psychotherapy. Experienced IFS Institute Assistant Trainer\, Georgie Cooke\, will offer a 2 Day Introductory IFS workshop\, followed by a 2 Day Deepening IFS workshop (4 days total). Attendees of previous Introductory IFS workshops can apply for tickets in the Deepening\, with preference going to the current participants. \nParticipants in the Introductory Workshop Series will learn the basics of the IFS approach from the ground up. No previous knowledge of the model is assumed. Suitable to mental health professionals including therapists\, psychologists\, counsellors\, psychiatrists\, expressive and therapeutic arts practitioners\, and social workers. The focus in the Deepening days is on further understanding the IFS approach\, model and techniques through a series of exercises\, demos and discussion. To attend the Deepening\, attendees muct have completed an Introduction to IFS workshop or equivalent (6 hours minimum). \nParticipants will be supported in the experiential work with trained NZ therapists and practitioners as your assistants – each have completed the official IFS Institute’s Training Level 1 or 2. \nThis workshop series provides an opportunity for didactic presentation\, watching both live and demonstration sessions with commentary and discussion\, and experiential exercises where we learn-by-doing. You will develop a familiarity with the powerful attitudes and techniques that make IFS so effective. The sessions here aim to provide an opportunity for adult group learning\, professional development in a supportive collegial atmosphere. \nWe recommend all participants take best precautions (masks\, immunisation\, distancing\, hand-washing) in order to take care of others and themselves during the pandemic and flu seasons. \n  \n\nNote – further New Zealand IFS Introduction and Deepening workshops will run in Epsom\, Auckland in 2025 – Join the interest list here for early notice about upcoming workshop and training events.  \n  \n\nTestimonials from attendees of recent New Zealand IFS workshops … \n“The workshop inspired me to become more committed to using the model and developed my confidence. Group discussions\, demonstrations and small group work created a positive and open learning atmosphere. The trainer was living the values of IFS through openly embracing all the parts in the room. I had the opportunity to work with my own parts in a supportive atmosphere. \nFun\, informative\, experiential\, respectful\, and inspiring. \nUseful\, effective\, grounding\, and gave me more confidence in using IFS” \nReally enjoyed the presence\, authenticity\, compassion\, and expertise in the field. It made for an engaging and fun workshop and I came away inspired by IFS. \nAn absolute must to attend if you are wanting to explore the use of IFS in your practice. Learning from experienced IFS practitioners!“ \n  \nFor further information including ticketing CLICK HERE!    
URL:https://mindbeyond.com.au/event/ifs-model-introduction-and-deepening-22-day-auckland-nz-workshop/
LOCATION:Hou Mana Wai Mercy Wellsprings\, Te Ngakau Waiora Mercy Spirituality Centre\, 104 The Drive\, Epsom\, New Zealand
CATEGORIES:Workshop
ATTACH;FMTTYPE=image/jpeg:https://mindbeyond.com.au/wp-content/uploads/2022/12/Mind-Beyond-Events-Banner.jpg
END:VEVENT
END:VCALENDAR