BEGIN:VCALENDAR
VERSION:2.0
PRODID:-//Mind Beyond | IFS Australia &amp; New Zealand - ECPv6.15.20//NONSGML v1.0//EN
CALSCALE:GREGORIAN
METHOD:PUBLISH
X-WR-CALNAME:Mind Beyond | IFS Australia &amp; New Zealand
X-ORIGINAL-URL:https://mindbeyond.com.au
X-WR-CALDESC:Events for Mind Beyond | IFS Australia &amp; New Zealand
REFRESH-INTERVAL;VALUE=DURATION:PT1H
X-Robots-Tag:noindex
X-PUBLISHED-TTL:PT1H
BEGIN:VTIMEZONE
TZID:Australia/Sydney
BEGIN:STANDARD
TZOFFSETFROM:+1100
TZOFFSETTO:+1000
TZNAME:AEST
DTSTART:20240406T160000
END:STANDARD
BEGIN:DAYLIGHT
TZOFFSETFROM:+1000
TZOFFSETTO:+1100
TZNAME:AEDT
DTSTART:20241005T160000
END:DAYLIGHT
BEGIN:STANDARD
TZOFFSETFROM:+1100
TZOFFSETTO:+1000
TZNAME:AEST
DTSTART:20250405T160000
END:STANDARD
BEGIN:DAYLIGHT
TZOFFSETFROM:+1000
TZOFFSETTO:+1100
TZNAME:AEDT
DTSTART:20251004T160000
END:DAYLIGHT
BEGIN:STANDARD
TZOFFSETFROM:+1100
TZOFFSETTO:+1000
TZNAME:AEST
DTSTART:20260404T160000
END:STANDARD
BEGIN:DAYLIGHT
TZOFFSETFROM:+1000
TZOFFSETTO:+1100
TZNAME:AEDT
DTSTART:20261003T160000
END:DAYLIGHT
END:VTIMEZONE
BEGIN:VEVENT
DTSTART;TZID=Australia/Sydney:20250828T090000
DTEND;TZID=Australia/Sydney:20250829T170000
DTSTAMP:20260422T145646
CREATED:20250618T003708Z
LAST-MODIFIED:20250618T003708Z
UID:5481-1756371600-1756486800@mindbeyond.com.au
SUMMARY:IFS INTRODUCTORY WORKSHOP
DESCRIPTION:IFS INTRODUCTORY WORKSHOP\nJoin us for an experiential Introduction to Internal Family Systems (IFS) two-day-in-person workshop hosted in Brisbane\, Queensland. \nWHEN\n28th & 29th August 2025 \nCOST\n$660 per person (inc GST) \nMorning and afternoon tea provided \nWHERE\nClayfield Centre\n23 Victoria Street\nClayfield\, Brisbane\, QLD \nPRESENTERS\nDr Loranie Leas & Marisa Bertello \nWORKSHOP CONTENT \nIn this 2-day professional development workshop for mental health professionals\, participants will be offered an experiential style introduction to Internal Family Systems (IFS) Therapy. IFS is a non-pathologising evidence-based psychotherapy. Internationally\, IFS is fast becoming well recognised as a pragmatic and empowering paradigm\, transforming many lives. \nThis workshop includes a multi-modal experiential learning approach\, including content\, reflections\, discussions and live demonstrations. \nLEARNING OBJECTIVES \n\nLearn the flow of the IFS model\nUnderstand and work with the client’s protective system\nLearn IFS skills – insight and direct access\nUnderstand the interface between therapist’s own system and client’s system from an IFS perspective\n\nTo secure your place\n\nRegister your interest by phone (07 4632 1972) or email (mympoweredlife@gmail.com)\nPay a deposit of $200\nRemainder of the fee due 2 weeks prior to the event\n\n\nPLEASE NOTE:\n\nLimited spaces available\nRefunds available up to 21 days prior to the event\n\n  \nTHIS WORKSHOP IS NOT AFFILIATED WITH IFSI NOR IS IT A SUBSTITUTE FOR THE IFSO ACCREDITED IFS TRAININGS IN LEVELS 1. 2 OR 3.
URL:https://mindbeyond.com.au/event/ifs-introductory-workshop/
LOCATION:Clayfield Centre\, 23 Victoria Street\, Clayfield\, QLD\, Australia
CATEGORIES:Workshop
ATTACH;FMTTYPE=image/jpeg:https://mindbeyond.com.au/wp-content/uploads/2025/06/Capture.jpg
END:VEVENT
END:VCALENDAR